BEGIN:VCALENDAR
VERSION:2.0
PRODID:-//Tukios.com/
BEGIN:VEVENT
UID:32e2ce4c-73d4-4189-a536-d864fdf5d2c1@www.kcummins.com
DTSTAMP:20260421T180546Z
DTSTART:20260423T210000Z
DTEND:20260423T220000Z
SUMMARY:Funeral Service
DESCRIPTION:
URL:https://www.kcummins.com/obituaries/gloria-hill
LOCATION:Kelley-Cummins Funeral Home 709 North Main Street  Hubbard OH 
	44425
GEO:41.1640685;-80.5686764
END:VEVENT
END:VCALENDAR