BEGIN:VCALENDAR
VERSION:2.0
PRODID:-//Tukios.com/
BEGIN:VEVENT
UID:d868a9bf-bac6-49be-af61-51ed1daed35f@www.kcummins.com
DTSTAMP:20260421T180227Z
DTSTART:20260423T190000Z
DTEND:20260423T210000Z
SUMMARY:Visitation
DESCRIPTION:
URL:https://www.kcummins.com/obituaries/gloria-hill
LOCATION:Kelley-Cummins Funeral Home 709 North Main Street  Hubbard OH 
	44425
GEO:41.1640685;-80.5686764
END:VEVENT
END:VCALENDAR